BEGIN:VCALENDAR
VERSION:2.0
PRODID:-//live-embassy GmbH - ECPv6.15.18//NONSGML v1.0//EN
CALSCALE:GREGORIAN
METHOD:PUBLISH
X-ORIGINAL-URL:https://live-embassy.de
X-WR-CALDESC:Veranstaltungen für live-embassy GmbH
REFRESH-INTERVAL;VALUE=DURATION:PT1H
X-Robots-Tag:noindex
X-PUBLISHED-TTL:PT1H
BEGIN:VTIMEZONE
TZID:Europe/Berlin
BEGIN:DAYLIGHT
TZOFFSETFROM:+0100
TZOFFSETTO:+0200
TZNAME:CEST
DTSTART:20240331T010000
END:DAYLIGHT
BEGIN:STANDARD
TZOFFSETFROM:+0200
TZOFFSETTO:+0100
TZNAME:CET
DTSTART:20241027T010000
END:STANDARD
BEGIN:DAYLIGHT
TZOFFSETFROM:+0100
TZOFFSETTO:+0200
TZNAME:CEST
DTSTART:20250330T010000
END:DAYLIGHT
BEGIN:STANDARD
TZOFFSETFROM:+0200
TZOFFSETTO:+0100
TZNAME:CET
DTSTART:20251026T010000
END:STANDARD
BEGIN:DAYLIGHT
TZOFFSETFROM:+0100
TZOFFSETTO:+0200
TZNAME:CEST
DTSTART:20260329T010000
END:DAYLIGHT
BEGIN:STANDARD
TZOFFSETFROM:+0200
TZOFFSETTO:+0100
TZNAME:CET
DTSTART:20261025T010000
END:STANDARD
END:VTIMEZONE
BEGIN:VEVENT
DTSTART;TZID=Europe/Berlin:20250405T153000
DTEND;TZID=Europe/Berlin:20250405T200000
DTSTAMP:20260420T161545
CREATED:20241107T133625Z
LAST-MODIFIED:20241107T133625Z
UID:10000024-1743867000-1743883200@live-embassy.de
SUMMARY:herrH - Neue Deutsche Kindermusik - Bochum
DESCRIPTION:herrH – Neue Deutsche Kindermusik\nEinlass 15:30 Start 16:00Rotunde Bochum\nTickets werden ab 3 Jahren benötigt.\n\nWenn sich Kinderzimmer in XXL-Bühnen verwandeln\, Kuscheltiere stage-diven und Mama und Papa live dabei sind\, wenn getanzt\, gesungen und gefeiert wird\, dann kann nur einer am Werk sein. Denn herrH alias Simon Horn ist mehr als ein typischer Kinderliedermacher. HerrH ist Vollblutmusiker\, Freund\, erstes Idol und festes (musikalisches) Familienmitglied. Er liefert den ultimativen Familiensoundtrack und sieht die Welt nicht nur durch Kinderaugen\, sondern hört sie auch durch Kinderohren – womit wir auch schon bei seinem Geheimrezept wären\, mit dem er seit nunmehr zehn Jahren die Herzen seiner kleinen und großen Fans gewinnt.\nDurch seine jahrelange Erfahrung Erfahrung als Musiker und studierter Grundschulpädagoge weiß herrH vor allem eines: „Musik ist für die kindliche Entwicklung elementar. Sie ist so wichtig\, wie umarmt zu werden und ist ein echter Emotions-Booster – vor allem für die positiven Energien und Gefühle der Kleinen“. Und genau da setzt herrH‘s künstlerisches Schaffen an. Indem er RAFFI\, DIE GIRAFFE\, EMMA\, DIE ENTE und Co. lebendig werden lässt und seine Songs mit einer ganz besonderen Portion gute Laune und positiven Gefühlen würzt\, setzt er nicht nur bei den Kleinen\, sondern auch bei den Großen Fröhlichkeit\, Kreativität und die Lust zu tanzen frei. Kurzum: herrH verpasst der Welt der Kinder mitreißende Songs\, die happy machen. Denn der junge Familienvater weiß: „Was gute Energie hat\, entsteht auch aus guter Energie“.
URL:https://live-embassy.de/event/herrh-neue-deutsche-kindermusik-bochum/
LOCATION:Rotunde – Bochum\, Am Kulturgleis 3-5\, Bochum\, NRW\, 44787\, Germany
ATTACH;FMTTYPE=image/jpeg:https://live-embassy.de/wp-content/uploads/2024/11/herrH-Neue-Deutsche-Kindermusik-Bochum.jpg
END:VEVENT
END:VCALENDAR